BEGIN:VCALENDAR
VERSION:2.0
PRODID:-//Gesamtschule Fröndenberg - ECPv6.15.20//NONSGML v1.0//EN
CALSCALE:GREGORIAN
METHOD:PUBLISH
X-WR-CALNAME:Gesamtschule Fröndenberg
X-ORIGINAL-URL:https://gesamtschulefroendenberg.de
X-WR-CALDESC:Veranstaltungen für Gesamtschule Fröndenberg
REFRESH-INTERVAL;VALUE=DURATION:PT1H
X-Robots-Tag:noindex
X-PUBLISHED-TTL:PT1H
BEGIN:VTIMEZONE
TZID:Europe/Berlin
BEGIN:DAYLIGHT
TZOFFSETFROM:+0100
TZOFFSETTO:+0200
TZNAME:CEST
DTSTART:20230326T010000
END:DAYLIGHT
BEGIN:STANDARD
TZOFFSETFROM:+0200
TZOFFSETTO:+0100
TZNAME:CET
DTSTART:20231029T010000
END:STANDARD
BEGIN:DAYLIGHT
TZOFFSETFROM:+0100
TZOFFSETTO:+0200
TZNAME:CEST
DTSTART:20240331T010000
END:DAYLIGHT
BEGIN:STANDARD
TZOFFSETFROM:+0200
TZOFFSETTO:+0100
TZNAME:CET
DTSTART:20241027T010000
END:STANDARD
BEGIN:DAYLIGHT
TZOFFSETFROM:+0100
TZOFFSETTO:+0200
TZNAME:CEST
DTSTART:20250330T010000
END:DAYLIGHT
BEGIN:STANDARD
TZOFFSETFROM:+0200
TZOFFSETTO:+0100
TZNAME:CET
DTSTART:20251026T010000
END:STANDARD
BEGIN:DAYLIGHT
TZOFFSETFROM:+0100
TZOFFSETTO:+0200
TZNAME:CEST
DTSTART:20260329T010000
END:DAYLIGHT
BEGIN:STANDARD
TZOFFSETFROM:+0200
TZOFFSETTO:+0100
TZNAME:CET
DTSTART:20261025T010000
END:STANDARD
END:VTIMEZONE
BEGIN:VEVENT
DTSTART;VALUE=DATE:20241223
DTEND;VALUE=DATE:20250107
DTSTAMP:20260422T013907
CREATED:20240822T133839Z
LAST-MODIFIED:20240822T133839Z
UID:10000284-1734912000-1736207999@gesamtschulefroendenberg.de
SUMMARY:Weihnachtsferien
DESCRIPTION:
URL:https://gesamtschulefroendenberg.de/event/weihnachtsferien-4/
LOCATION:Gesamtschule Fröndenberg\, Wiesengrund 7\, Fröndenberg\, NRW\, 58730\, Deutschland
CATEGORIES:Ferientage
GEO:51.4783746;7.7727956
X-APPLE-STRUCTURED-LOCATION;VALUE=URI;X-ADDRESS=Gesamtschule Fröndenberg Wiesengrund 7 Fröndenberg NRW 58730 Deutschland;X-APPLE-RADIUS=500;X-TITLE=Wiesengrund 7:geo:7.7727956,51.4783746
END:VEVENT
BEGIN:VEVENT
DTSTART;VALUE=DATE:20250112
DTEND;VALUE=DATE:20250119
DTSTAMP:20260422T013907
CREATED:20240906T074756Z
LAST-MODIFIED:20240906T074756Z
UID:10000335-1736640000-1737244799@gesamtschulefroendenberg.de
SUMMARY:Skifreizeit Oberstufe
DESCRIPTION:
URL:https://gesamtschulefroendenberg.de/event/skifreizeit-oberstufe/
LOCATION:Gesamtschule Fröndenberg\, Wiesengrund 7\, Fröndenberg\, NRW\, 58730\, Deutschland
GEO:51.4783746;7.7727956
X-APPLE-STRUCTURED-LOCATION;VALUE=URI;X-ADDRESS=Gesamtschule Fröndenberg Wiesengrund 7 Fröndenberg NRW 58730 Deutschland;X-APPLE-RADIUS=500;X-TITLE=Wiesengrund 7:geo:7.7727956,51.4783746
END:VEVENT
BEGIN:VEVENT
DTSTART;TZID=Europe/Berlin:20250122T080000
DTEND;TZID=Europe/Berlin:20250122T123000
DTSTAMP:20260422T013907
CREATED:20250117T081408Z
LAST-MODIFIED:20250117T081408Z
UID:10000357-1737532800-1737549000@gesamtschulefroendenberg.de
SUMMARY:Potentialanalyse JG 8 - Nachholtermin -
DESCRIPTION:
URL:https://gesamtschulefroendenberg.de/event/potentialanalyse-jg-8-nachholtermin/
LOCATION:Gesamtschule Fröndenberg\, Wiesengrund 7\, Fröndenberg\, NRW\, 58730\, Deutschland
CATEGORIES:Abteilung 7-8
GEO:51.4783746;7.7727956
X-APPLE-STRUCTURED-LOCATION;VALUE=URI;X-ADDRESS=Gesamtschule Fröndenberg Wiesengrund 7 Fröndenberg NRW 58730 Deutschland;X-APPLE-RADIUS=500;X-TITLE=Wiesengrund 7:geo:7.7727956,51.4783746
END:VEVENT
BEGIN:VEVENT
DTSTART;TZID=Europe/Berlin:20250123T075000
DTEND;TZID=Europe/Berlin:20250123T123000
DTSTAMP:20260422T013907
CREATED:20250117T081514Z
LAST-MODIFIED:20250117T081514Z
UID:10000358-1737618600-1737635400@gesamtschulefroendenberg.de
SUMMARY:Bundeswettbewerb Sprache JG 10
DESCRIPTION:
URL:https://gesamtschulefroendenberg.de/event/bundeswettbewerb-sprache-jg-10/
LOCATION:Gesamtschule Fröndenberg\, Wiesengrund 7\, Fröndenberg\, NRW\, 58730\, Deutschland
CATEGORIES:Abteilung 9-10
GEO:51.4783746;7.7727956
X-APPLE-STRUCTURED-LOCATION;VALUE=URI;X-ADDRESS=Gesamtschule Fröndenberg Wiesengrund 7 Fröndenberg NRW 58730 Deutschland;X-APPLE-RADIUS=500;X-TITLE=Wiesengrund 7:geo:7.7727956,51.4783746
END:VEVENT
BEGIN:VEVENT
DTSTART;TZID=Europe/Berlin:20250130T122500
DTEND;TZID=Europe/Berlin:20250130T180000
DTSTAMP:20260422T013907
CREATED:20240822T134015Z
LAST-MODIFIED:20240822T134015Z
UID:10000285-1738239900-1738260000@gesamtschulefroendenberg.de
SUMMARY:Zeugniskonferenzen - Ende des Unterrichts 12:25 Uhr -
DESCRIPTION:
URL:https://gesamtschulefroendenberg.de/event/zeugniskonferenzen-ende-des-unterrichts-1225-uhr/
LOCATION:Gesamtschule Fröndenberg\, Wiesengrund 7\, Fröndenberg\, NRW\, 58730\, Deutschland
CATEGORIES:Abteilung 5-6,Abteilung 7-8,Oberstufe
GEO:51.4783746;7.7727956
X-APPLE-STRUCTURED-LOCATION;VALUE=URI;X-ADDRESS=Gesamtschule Fröndenberg Wiesengrund 7 Fröndenberg NRW 58730 Deutschland;X-APPLE-RADIUS=500;X-TITLE=Wiesengrund 7:geo:7.7727956,51.4783746
END:VEVENT
BEGIN:VEVENT
DTSTART;TZID=Europe/Berlin:20250130T122500
DTEND;TZID=Europe/Berlin:20250130T180000
DTSTAMP:20260422T013907
CREATED:20240826T074105Z
LAST-MODIFIED:20240826T074105Z
UID:10000304-1738239900-1738260000@gesamtschulefroendenberg.de
SUMMARY:Zeugniskonferenz JG 5 - Unterrichtsende 12.25 Uhr -
DESCRIPTION:
URL:https://gesamtschulefroendenberg.de/event/zeugniskonferenz-jg-5-unterrichtsende-12-25-uhr/
LOCATION:Gesamtschule Fröndenberg\, Wiesengrund 7\, Fröndenberg\, NRW\, 58730\, Deutschland
CATEGORIES:Abteilung 5-6
GEO:51.4783746;7.7727956
X-APPLE-STRUCTURED-LOCATION;VALUE=URI;X-ADDRESS=Gesamtschule Fröndenberg Wiesengrund 7 Fröndenberg NRW 58730 Deutschland;X-APPLE-RADIUS=500;X-TITLE=Wiesengrund 7:geo:7.7727956,51.4783746
END:VEVENT
BEGIN:VEVENT
DTSTART;TZID=Europe/Berlin:20250130T130000
DTEND;TZID=Europe/Berlin:20250130T180000
DTSTAMP:20260422T013907
CREATED:20240828T105107Z
LAST-MODIFIED:20250117T080149Z
UID:10000314-1738242000-1738260000@gesamtschulefroendenberg.de
SUMMARY:Zeugniskonferenz JG 5 - 9 - Ende des Unterrichts 12.25 Uhr -
DESCRIPTION:
URL:https://gesamtschulefroendenberg.de/event/zeugniskonferenz-jg-9-ende-des-unterrichts-12-25-uhr/
LOCATION:Gesamtschule Fröndenberg\, Wiesengrund 7\, Fröndenberg\, NRW\, 58730\, Deutschland
CATEGORIES:Abteilung 9-10
GEO:51.4783746;7.7727956
X-APPLE-STRUCTURED-LOCATION;VALUE=URI;X-ADDRESS=Gesamtschule Fröndenberg Wiesengrund 7 Fröndenberg NRW 58730 Deutschland;X-APPLE-RADIUS=500;X-TITLE=Wiesengrund 7:geo:7.7727956,51.4783746
END:VEVENT
END:VCALENDAR