BEGIN:VCALENDAR
VERSION:2.0
PRODID:-//Gesamtschule Fröndenberg - ECPv6.15.20//NONSGML v1.0//EN
CALSCALE:GREGORIAN
METHOD:PUBLISH
X-WR-CALNAME:Gesamtschule Fröndenberg
X-ORIGINAL-URL:https://gesamtschulefroendenberg.de
X-WR-CALDESC:Veranstaltungen für Gesamtschule Fröndenberg
REFRESH-INTERVAL;VALUE=DURATION:PT1H
X-Robots-Tag:noindex
X-PUBLISHED-TTL:PT1H
BEGIN:VTIMEZONE
TZID:Europe/Berlin
BEGIN:DAYLIGHT
TZOFFSETFROM:+0100
TZOFFSETTO:+0200
TZNAME:CEST
DTSTART:20240331T010000
END:DAYLIGHT
BEGIN:STANDARD
TZOFFSETFROM:+0200
TZOFFSETTO:+0100
TZNAME:CET
DTSTART:20241027T010000
END:STANDARD
BEGIN:DAYLIGHT
TZOFFSETFROM:+0100
TZOFFSETTO:+0200
TZNAME:CEST
DTSTART:20250330T010000
END:DAYLIGHT
BEGIN:STANDARD
TZOFFSETFROM:+0200
TZOFFSETTO:+0100
TZNAME:CET
DTSTART:20251026T010000
END:STANDARD
BEGIN:DAYLIGHT
TZOFFSETFROM:+0100
TZOFFSETTO:+0200
TZNAME:CEST
DTSTART:20260329T010000
END:DAYLIGHT
BEGIN:STANDARD
TZOFFSETFROM:+0200
TZOFFSETTO:+0100
TZNAME:CET
DTSTART:20261025T010000
END:STANDARD
END:VTIMEZONE
BEGIN:VEVENT
DTSTART;VALUE=DATE:20250303
DTEND;VALUE=DATE:20250304
DTSTAMP:20260422T044830
CREATED:20240517T060717Z
LAST-MODIFIED:20240517T060717Z
UID:10000265-1740960000-1741046399@gesamtschulefroendenberg.de
SUMMARY:Rosenmontag - unterrichtsfrei -
DESCRIPTION:
URL:https://gesamtschulefroendenberg.de/event/rosenmontag-unterrichtsfrei-4/
LOCATION:Gesamtschule Fröndenberg\, Wiesengrund 7\, Fröndenberg\, NRW\, 58730\, Deutschland
CATEGORIES:Ferientage
GEO:51.4783746;7.7727956
X-APPLE-STRUCTURED-LOCATION;VALUE=URI;X-ADDRESS=Gesamtschule Fröndenberg Wiesengrund 7 Fröndenberg NRW 58730 Deutschland;X-APPLE-RADIUS=500;X-TITLE=Wiesengrund 7:geo:7.7727956,51.4783746
END:VEVENT
BEGIN:VEVENT
DTSTART;VALUE=DATE:20250304
DTEND;VALUE=DATE:20250305
DTSTAMP:20260422T044830
CREATED:20240517T060750Z
LAST-MODIFIED:20240517T060750Z
UID:10000266-1741046400-1741132799@gesamtschulefroendenberg.de
SUMMARY:beweglicher Ferientag - unterrichtsfrei -
DESCRIPTION:
URL:https://gesamtschulefroendenberg.de/event/beweglicher-ferientag-unterrichtsfrei-5/
LOCATION:Gesamtschule Fröndenberg\, Wiesengrund 7\, Fröndenberg\, NRW\, 58730\, Deutschland
CATEGORIES:Ferientage
GEO:51.4783746;7.7727956
X-APPLE-STRUCTURED-LOCATION;VALUE=URI;X-ADDRESS=Gesamtschule Fröndenberg Wiesengrund 7 Fröndenberg NRW 58730 Deutschland;X-APPLE-RADIUS=500;X-TITLE=Wiesengrund 7:geo:7.7727956,51.4783746
END:VEVENT
BEGIN:VEVENT
DTSTART;VALUE=DATE:20250305
DTEND;VALUE=DATE:20250306
DTSTAMP:20260422T044830
CREATED:20240828T131041Z
LAST-MODIFIED:20240828T131041Z
UID:10000319-1741132800-1741219199@gesamtschulefroendenberg.de
SUMMARY:Vera 8 Englisch
DESCRIPTION:
URL:https://gesamtschulefroendenberg.de/event/vera-8-englisch/
LOCATION:Gesamtschule Fröndenberg\, Wiesengrund 7\, Fröndenberg\, NRW\, 58730\, Deutschland
CATEGORIES:Abteilung 7-8
GEO:51.4783746;7.7727956
X-APPLE-STRUCTURED-LOCATION;VALUE=URI;X-ADDRESS=Gesamtschule Fröndenberg Wiesengrund 7 Fröndenberg NRW 58730 Deutschland;X-APPLE-RADIUS=500;X-TITLE=Wiesengrund 7:geo:7.7727956,51.4783746
END:VEVENT
BEGIN:VEVENT
DTSTART;TZID=Europe/Berlin:20250305T180000
DTEND;TZID=Europe/Berlin:20250305T213000
DTSTAMP:20260422T044830
CREATED:20250224T080322Z
LAST-MODIFIED:20250224T080322Z
UID:10000361-1741197600-1741210200@gesamtschulefroendenberg.de
SUMMARY:JG 05 Elternabend zum Thema "Sicherheit im Internet-Cybermobbing & CO"
DESCRIPTION:
URL:https://gesamtschulefroendenberg.de/event/jg-05-elternabend-zum-thema-sicherheit-im-internet-cybermobbing-co/
LOCATION:Gesamtschule Fröndenberg\, Wiesengrund 7\, Fröndenberg\, NRW\, 58730\, Deutschland
CATEGORIES:Abteilung 5-6
GEO:51.4783746;7.7727956
X-APPLE-STRUCTURED-LOCATION;VALUE=URI;X-ADDRESS=Gesamtschule Fröndenberg Wiesengrund 7 Fröndenberg NRW 58730 Deutschland;X-APPLE-RADIUS=500;X-TITLE=Wiesengrund 7:geo:7.7727956,51.4783746
END:VEVENT
BEGIN:VEVENT
DTSTART;VALUE=DATE:20250306
DTEND;VALUE=DATE:20250307
DTSTAMP:20260422T044830
CREATED:20240828T131118Z
LAST-MODIFIED:20240828T131118Z
UID:10000320-1741219200-1741305599@gesamtschulefroendenberg.de
SUMMARY:Vera 8 Mathematik
DESCRIPTION:
URL:https://gesamtschulefroendenberg.de/event/vera-8-mathematik/
LOCATION:Gesamtschule Fröndenberg\, Wiesengrund 7\, Fröndenberg\, NRW\, 58730\, Deutschland
CATEGORIES:Abteilung 7-8
GEO:51.4783746;7.7727956
X-APPLE-STRUCTURED-LOCATION;VALUE=URI;X-ADDRESS=Gesamtschule Fröndenberg Wiesengrund 7 Fröndenberg NRW 58730 Deutschland;X-APPLE-RADIUS=500;X-TITLE=Wiesengrund 7:geo:7.7727956,51.4783746
END:VEVENT
BEGIN:VEVENT
DTSTART;TZID=Europe/Berlin:20250306T180000
DTEND;TZID=Europe/Berlin:20250306T213000
DTSTAMP:20260422T044830
CREATED:20241209T074802Z
LAST-MODIFIED:20241209T074802Z
UID:10000355-1741284000-1741296600@gesamtschulefroendenberg.de
SUMMARY:Wahlparty Juniorwahl JG 9-Q2 in der Windmühle
DESCRIPTION:
URL:https://gesamtschulefroendenberg.de/event/wahlparty-juniorwahl-jg-9-q2-in-der-windmuehle/
LOCATION:Gesamtschule Fröndenberg\, Wiesengrund 7\, Fröndenberg\, NRW\, 58730\, Deutschland
CATEGORIES:Abteilung 9-10,Oberstufe
GEO:51.4783746;7.7727956
X-APPLE-STRUCTURED-LOCATION;VALUE=URI;X-ADDRESS=Gesamtschule Fröndenberg Wiesengrund 7 Fröndenberg NRW 58730 Deutschland;X-APPLE-RADIUS=500;X-TITLE=Wiesengrund 7:geo:7.7727956,51.4783746
END:VEVENT
BEGIN:VEVENT
DTSTART;VALUE=DATE:20250307
DTEND;VALUE=DATE:20250308
DTSTAMP:20260422T044830
CREATED:20250307T080542Z
LAST-MODIFIED:20250307T080542Z
UID:10000363-1741305600-1741391999@gesamtschulefroendenberg.de
SUMMARY:Abiturzulassungen - letzter Schultag Q2 -
DESCRIPTION:
URL:https://gesamtschulefroendenberg.de/event/abiturzulassungen-letzter-schultag-q2/
LOCATION:Gesamtschule Fröndenberg\, Wiesengrund 7\, Fröndenberg\, NRW\, 58730\, Deutschland
CATEGORIES:Oberstufe
GEO:51.4783746;7.7727956
X-APPLE-STRUCTURED-LOCATION;VALUE=URI;X-ADDRESS=Gesamtschule Fröndenberg Wiesengrund 7 Fröndenberg NRW 58730 Deutschland;X-APPLE-RADIUS=500;X-TITLE=Wiesengrund 7:geo:7.7727956,51.4783746
END:VEVENT
BEGIN:VEVENT
DTSTART;TZID=Europe/Berlin:20250318T150500
DTEND;TZID=Europe/Berlin:20250318T180000
DTSTAMP:20260422T044830
CREATED:20240911T103040Z
LAST-MODIFIED:20240911T103938Z
UID:10000341-1742310300-1742320800@gesamtschulefroendenberg.de
SUMMARY:Fahkonferenz I (Deutsch\, Technik\, Hauswirtschaft\, Mathe)
DESCRIPTION:
URL:https://gesamtschulefroendenberg.de/event/fahkonferenz-i-deutsch-technik-hauswirtschaft/
LOCATION:Gesamtschule Fröndenberg\, Wiesengrund 7\, Fröndenberg\, NRW\, 58730\, Deutschland
GEO:51.4783746;7.7727956
X-APPLE-STRUCTURED-LOCATION;VALUE=URI;X-ADDRESS=Gesamtschule Fröndenberg Wiesengrund 7 Fröndenberg NRW 58730 Deutschland;X-APPLE-RADIUS=500;X-TITLE=Wiesengrund 7:geo:7.7727956,51.4783746
END:VEVENT
BEGIN:VEVENT
DTSTART;VALUE=DATE:20250324
DTEND;VALUE=DATE:20250329
DTSTAMP:20260422T044830
CREATED:20250226T092202Z
LAST-MODIFIED:20250226T092202Z
UID:10000362-1742774400-1743206399@gesamtschulefroendenberg.de
SUMMARY:JG 8 Schüleraustausch Fröndenberg-Harderwyjk
DESCRIPTION:
URL:https://gesamtschulefroendenberg.de/event/jg-8-schueleraustausch-froendenberg-harderwyjk/
LOCATION:Gesamtschule Fröndenberg\, Wiesengrund 7\, Fröndenberg\, NRW\, 58730\, Deutschland
CATEGORIES:Veranstaltungen
GEO:51.4783746;7.7727956
X-APPLE-STRUCTURED-LOCATION;VALUE=URI;X-ADDRESS=Gesamtschule Fröndenberg Wiesengrund 7 Fröndenberg NRW 58730 Deutschland;X-APPLE-RADIUS=500;X-TITLE=Wiesengrund 7:geo:7.7727956,51.4783746
END:VEVENT
BEGIN:VEVENT
DTSTART;TZID=Europe/Berlin:20250325T150500
DTEND;TZID=Europe/Berlin:20250325T180000
DTSTAMP:20260422T044830
CREATED:20240911T103150Z
LAST-MODIFIED:20240911T103150Z
UID:10000342-1742915100-1742925600@gesamtschulefroendenberg.de
SUMMARY:Fachkonferenz II (Französisch\, DG\, Latein\, Sport\, Chemie)
DESCRIPTION:
URL:https://gesamtschulefroendenberg.de/event/fachkonferenz-ii-franzoesisch-dg-latein-sport-chemie-4/
LOCATION:Gesamtschule Fröndenberg\, Wiesengrund 7\, Fröndenberg\, NRW\, 58730\, Deutschland
GEO:51.4783746;7.7727956
X-APPLE-STRUCTURED-LOCATION;VALUE=URI;X-ADDRESS=Gesamtschule Fröndenberg Wiesengrund 7 Fröndenberg NRW 58730 Deutschland;X-APPLE-RADIUS=500;X-TITLE=Wiesengrund 7:geo:7.7727956,51.4783746
END:VEVENT
BEGIN:VEVENT
DTSTART;TZID=Europe/Berlin:20250326T183000
DTEND;TZID=Europe/Berlin:20250326T213000
DTSTAMP:20260422T044830
CREATED:20240916T075256Z
LAST-MODIFIED:20250325T104403Z
UID:10000347-1743013800-1743024600@gesamtschulefroendenberg.de
SUMMARY:Schulkonferenz III
DESCRIPTION:
URL:https://gesamtschulefroendenberg.de/event/schulkonferenz-iii-4/
LOCATION:Gesamtschule Fröndenberg\, Wiesengrund 7\, Fröndenberg\, NRW\, 58730\, Deutschland
CATEGORIES:Mitwirkung
GEO:51.4783746;7.7727956
X-APPLE-STRUCTURED-LOCATION;VALUE=URI;X-ADDRESS=Gesamtschule Fröndenberg Wiesengrund 7 Fröndenberg NRW 58730 Deutschland;X-APPLE-RADIUS=500;X-TITLE=Wiesengrund 7:geo:7.7727956,51.4783746
END:VEVENT
BEGIN:VEVENT
DTSTART;VALUE=DATE:20250331
DTEND;VALUE=DATE:20250412
DTSTAMP:20260422T044830
CREATED:20240828T131243Z
LAST-MODIFIED:20240828T131243Z
UID:10000321-1743379200-1744415999@gesamtschulefroendenberg.de
SUMMARY:JG 9 Praktikum
DESCRIPTION:
URL:https://gesamtschulefroendenberg.de/event/jg-9-praktikum/
LOCATION:Gesamtschule Fröndenberg\, Wiesengrund 7\, Fröndenberg\, NRW\, 58730\, Deutschland
CATEGORIES:Abteilung 9-10
GEO:51.4783746;7.7727956
X-APPLE-STRUCTURED-LOCATION;VALUE=URI;X-ADDRESS=Gesamtschule Fröndenberg Wiesengrund 7 Fröndenberg NRW 58730 Deutschland;X-APPLE-RADIUS=500;X-TITLE=Wiesengrund 7:geo:7.7727956,51.4783746
END:VEVENT
END:VCALENDAR